BEGIN:VCALENDAR
VERSION:2.0
PRODID:-//wp-events-plugin.com//7.2.3.1//EN
TZID:Europe/Amsterdam
X-WR-TIMEZONE:Europe/Amsterdam
BEGIN:VEVENT
UID:10@bruynezeelen.nl
DTSTART;TZID=Europe/Amsterdam:20250913T160000
DTEND;TZID=Europe/Amsterdam:20250913T170000
DTSTAMP:20250911T173252Z
URL:https://bruynezeelen.nl/optredens/200-jaar-noordhollandsch-kanaal/
SUMMARY:200-jaar-noordhollandsch-kanaal
DESCRIPTION:‘Het grootste kanaal ter wereld’ was het Noordhollandsch Ka
 naal toen het in gebruik werd genomen in 1824\, dit jaar 200 jaar geleden.
  Het moest Nederland internationaal op de kaart zetten.\n\nVoordewind Amst
 erdam Noord
ATTACH;FMTTYPE=image/jpeg:https://bruynezeelen.nl/wp-content/uploads/2024/
 02/NH-200Jaar.jpg
CATEGORIES:Besloten
END:VEVENT
BEGIN:VTIMEZONE
TZID:Europe/Amsterdam
X-LIC-LOCATION:Europe/Amsterdam
BEGIN:DAYLIGHT
DTSTART:20250330T030000
TZOFFSETFROM:+0100
TZOFFSETTO:+0200
TZNAME:CEST
END:DAYLIGHT
END:VTIMEZONE
END:VCALENDAR