BEGIN:VCALENDAR
VERSION:2.0
PRODID:-//wp-events-plugin.com//7.2.3.1//EN
TZID:Europe/Amsterdam
X-WR-TIMEZONE:Europe/Amsterdam
BEGIN:VEVENT
UID:11@bruynezeelen.nl
DTSTART;TZID=Europe/Amsterdam:20240529T200000
DTEND;TZID=Europe/Amsterdam:20240529T220000
DTSTAMP:20240202T202843Z
URL:https://bruynezeelen.nl/optredens/appartementencomplex-de-egmonden-egm
 ond-aan-zee/
SUMMARY:Appartementencomplex De Egmonden\, Egmond aan Zee
DESCRIPTION:Voor Allegoedsvakanties.nl verzorgen wij twee optredens in Egmo
 nd.\n\nSportlaan 4\, 1931 AV Egmond aan Zee
ATTACH;FMTTYPE=image/jpeg:https://bruynezeelen.nl/wp-content/uploads/2024/
 02/allegoedsvakanties.png
CATEGORIES:Besloten
END:VEVENT
BEGIN:VTIMEZONE
TZID:Europe/Amsterdam
X-LIC-LOCATION:Europe/Amsterdam
BEGIN:DAYLIGHT
DTSTART:20240331T030000
TZOFFSETFROM:+0100
TZOFFSETTO:+0200
TZNAME:CEST
END:DAYLIGHT
END:VTIMEZONE
END:VCALENDAR