BEGIN:VCALENDAR
VERSION:2.0
PRODID:-//wp-events-plugin.com//7.2.3.1//EN
TZID:Europe/Amsterdam
X-WR-TIMEZONE:Europe/Amsterdam
BEGIN:VEVENT
UID:18@bruynezeelen.nl
DTSTART;TZID=Europe/Amsterdam:20240914T140000
DTEND;TZID=Europe/Amsterdam:20240914T150000
DTSTAMP:20240913T045317Z
URL:https://bruynezeelen.nl/optredens/dorpshuis-westzaan-de-kwaker/
SUMMARY:Stichting Cornelis Corneliszoon van Uitgeest
DESCRIPTION:In het kader van Open Monumentenweekend (za. 14 en zo. 15 septe
 mber) organiseert onze stichting tussen 11.00 en 16.00 uur een gratis Publ
 ieksdag met excursies in de loods en op het terrein\, een klein verkooppun
 t in een molenaarshut\, een draaiende Lattenzager molen\, een tentoongeste
 lde replica oude Schelpenkar en een tentoonstelling unieke oude ansichtkaa
 rten van Uitgeest en omstreken.
ATTACH;FMTTYPE=image/jpeg:https://bruynezeelen.nl/wp-content/uploads/2024/
 09/houtzaagmolen.png
CATEGORIES:Openbaar
END:VEVENT
BEGIN:VTIMEZONE
TZID:Europe/Amsterdam
X-LIC-LOCATION:Europe/Amsterdam
BEGIN:DAYLIGHT
DTSTART:20240331T030000
TZOFFSETFROM:+0100
TZOFFSETTO:+0200
TZNAME:CEST
END:DAYLIGHT
END:VTIMEZONE
END:VCALENDAR