BEGIN:VCALENDAR
VERSION:2.0
PRODID:-//wp-events-plugin.com//7.2.3.1//EN
TZID:Europe/Amsterdam
X-WR-TIMEZONE:Europe/Amsterdam
BEGIN:VEVENT
UID:12@bruynezeelen.nl
DTSTART;TZID=Europe/Amsterdam:20241214T160000
DTEND;TZID=Europe/Amsterdam:20241214T173000
DTSTAMP:20240913T045236Z
URL:https://bruynezeelen.nl/optredens/evean-lishof-2/
SUMMARY:Evean Lishof
DESCRIPTION:Lishof ligt in het rustige dorp Oostzaan\, vlakbij recreatiegeb
 ied 't Twiske. Een klein winkelcentrum is in de buurt. Lishof is in 2012 v
 olledig gerenoveerd. Lishof biedt verzorging\, kortdurend verblijf\, dagbe
 steding en verblijf in een woongroep.
ATTACH;FMTTYPE=image/jpeg:https://bruynezeelen.nl/wp-content/uploads/2024/
 03/Lishof.jpg
CATEGORIES:Besloten
END:VEVENT
BEGIN:VTIMEZONE
TZID:Europe/Amsterdam
X-LIC-LOCATION:Europe/Amsterdam
BEGIN:STANDARD
DTSTART:20241027T020000
TZOFFSETFROM:+0200
TZOFFSETTO:+0100
TZNAME:CET
END:STANDARD
END:VTIMEZONE
END:VCALENDAR