BEGIN:VCALENDAR
VERSION:2.0
PRODID:-//wp-events-plugin.com//7.2.3.1//EN
TZID:Europe/Amsterdam
X-WR-TIMEZONE:Europe/Amsterdam
BEGIN:VEVENT
UID:22@bruynezeelen.nl
DTSTART;TZID=Europe/Amsterdam:20250126T150000
DTEND;TZID=Europe/Amsterdam:20250126T163000
DTSTAMP:20250111T133611Z
URL:https://bruynezeelen.nl/optredens/grote-kerk-oostzaan/
SUMMARY:Grote kerk Oostzaan
DESCRIPTION:Kom genieten van een sfeervol optreden van ons shantykoor in de
  prachtige Grote Kerk van Oostzaan. Laat u meeslepen door onze zeemanslied
 eren en warme harmonieën op zondag 26 januari 2025. Een middagvol muziek 
 en gezelligheid in een unieke setting. Mis het niet!
ATTACH;FMTTYPE=image/jpeg:https://bruynezeelen.nl/wp-content/uploads/2025/
 01/Grote-Kerk-Oostzaan.jpg
CATEGORIES:Openbaar
END:VEVENT
BEGIN:VTIMEZONE
TZID:Europe/Amsterdam
X-LIC-LOCATION:Europe/Amsterdam
BEGIN:STANDARD
DTSTART:20241027T020000
TZOFFSETFROM:+0200
TZOFFSETTO:+0100
TZNAME:CET
END:STANDARD
END:VTIMEZONE
END:VCALENDAR