BEGIN:VCALENDAR
VERSION:2.0
PRODID:-//wp-events-plugin.com//7.2.3.1//EN
TZID:Europe/Amsterdam
X-WR-TIMEZONE:Europe/Amsterdam
BEGIN:VEVENT
UID:13@bruynezeelen.nl
DTSTART;TZID=Europe/Amsterdam:20240414T120000
DTEND;TZID=Europe/Amsterdam:20240414T130000
DTSTAMP:20240323T140340Z
URL:https://bruynezeelen.nl/optredens/korendag-in-de-jisperkerk-2024/
SUMMARY:Korendag in de Jisperkerk 2024
DESCRIPTION:Voor de twaalfde keer zal dit voorjaar in Jisp een korendag wor
 den gehouden. Dit jaar is dat op zondag 14 april.\n\nDe deelnemende koren 
 zijn: \n\n    1. Evergreen \n    2. AMCKamerkoor \n    3. Bruyne Zeelen \n
     4. Stembent \n    5. Zang en Vriendschap \n    6. Grijze Golf \n    7.
  Cantabile \n    8. Decibel \n    9. Kaskedieze \n  10. Zilt \n\nIeder koo
 r zingt een half uur\, inclusief applaus en wisseling\, dus het dagprogram
 ma met de 10 koren en twee pauzes duurt tot 17.00 uur\n\nAanvang 11.00 uur
 . Deur open om 10.30 uur \n\nDe toegang is gratis\, een vrijwillige bijdra
 ge wordt zeer op prijs gesteld .  
ATTACH;FMTTYPE=image/jpeg:https://bruynezeelen.nl/wp-content/uploads/2024/
 03/jisper-kerk.jpg
CATEGORIES:Openbaar
END:VEVENT
BEGIN:VTIMEZONE
TZID:Europe/Amsterdam
X-LIC-LOCATION:Europe/Amsterdam
BEGIN:DAYLIGHT
DTSTART:20240331T030000
TZOFFSETFROM:+0100
TZOFFSETTO:+0200
TZNAME:CEST
END:DAYLIGHT
END:VTIMEZONE
END:VCALENDAR