BEGIN:VCALENDAR
VERSION:2.0
PRODID:-//wp-events-plugin.com//7.2.3.1//EN
TZID:Europe/Amsterdam
X-WR-TIMEZONE:Europe/Amsterdam
BEGIN:VEVENT
UID:24@bruynezeelen.nl
DTSTART;TZID=Europe/Amsterdam:20250413T120000
DTEND;TZID=Europe/Amsterdam:20250413T130000
DTSTAMP:20250212T214442Z
URL:https://bruynezeelen.nl/optredens/korendag-in-de-jisperkerk-2025/
SUMMARY:Korendag in de Jisperkerk 2025
DESCRIPTION:Voor de deriende keer zal dit voorjaar in Jisp een korendag wor
 den gehouden. Dit jaar is dat op zondag 13 april.\n\nVerschillende koren n
 emen deel.\n\nIeder koor zingt een half uur\, inclusief applaus en wisseli
 ng\, dus het dagprogramma met de 10 koren en twee pauzes duurt tot 17.00 u
 ur\n\nAanvang 11.00 uur. Deur open om 10.30 uur \n\nDe toegang is gratis\,
  een vrijwillige bijdrage wordt zeer op prijs gesteld .  
CATEGORIES:Openbaar
END:VEVENT
BEGIN:VTIMEZONE
TZID:Europe/Amsterdam
X-LIC-LOCATION:Europe/Amsterdam
BEGIN:DAYLIGHT
DTSTART:20250330T030000
TZOFFSETFROM:+0100
TZOFFSETTO:+0200
TZNAME:CEST
END:DAYLIGHT
END:VTIMEZONE
END:VCALENDAR