BEGIN:VCALENDAR
VERSION:2.0
PRODID:-//wp-events-plugin.com//7.2.3.1//EN
TZID:Europe/Amsterdam
X-WR-TIMEZONE:Europe/Amsterdam
BEGIN:VEVENT
UID:16@bruynezeelen.nl
DTSTART;TZID=Europe/Amsterdam:20241215T120000
DTEND;TZID=Europe/Amsterdam:20241215T180000
DTSTAMP:20240505T125036Z
URL:https://bruynezeelen.nl/optredens/midwinterfeest-graft-de-rijp-2024/
SUMMARY:Midwinterfeest Graft-De Rijp 2024
DESCRIPTION:Laat u verrassen tijdens dit leuke\, gezellige\, druk bezochte 
 weekend midden in De Rijp. U waant zich echt even terug in de tijd\, genie
 t van de kerstmarkt en geniet van de leuke\, mooie en soms aparte optreden
 s. Er is vast iets van uw gading bij. Ook aan de kinderen wordt gedacht in
  het kinderdorp is er genoeg te doen en te beleven en ook voor mensen met 
 een beperking is het Midwinterfeest goed te bezoeken. \n\nhttps://www.midw
 interfeest-graftderijp.nl/
ATTACH;FMTTYPE=image/jpeg:https://bruynezeelen.nl/wp-content/uploads/2024/
 05/midwinterfeest-Graft-De-Rijp-2024.jpg
CATEGORIES:Openbaar
END:VEVENT
BEGIN:VTIMEZONE
TZID:Europe/Amsterdam
X-LIC-LOCATION:Europe/Amsterdam
BEGIN:STANDARD
DTSTART:20241027T020000
TZOFFSETFROM:+0200
TZOFFSETTO:+0100
TZNAME:CET
END:STANDARD
END:VTIMEZONE
END:VCALENDAR