BEGIN:VCALENDAR
VERSION:2.0
PRODID:-//wp-events-plugin.com//7.2.3.1//EN
TZID:Europe/Amsterdam
X-WR-TIMEZONE:Europe/Amsterdam
BEGIN:VEVENT
UID:8@bruynezeelen.nl
DTSTART;TZID=Europe/Amsterdam:20240128T143000
DTEND;TZID=Europe/Amsterdam:20240128T160000
DTSTAMP:20231013T094633Z
URL:https://bruynezeelen.nl/optredens/musici/
SUMMARY:Musici
DESCRIPTION:Aanvang: 14.30u. \n\nEntree: €10\,- inclusief koffie/thee\,  
 pinnen mogelijk\n\nReserveren: kerkvankrommeniedijk@live.nl of telefonisch
  06 – 1035 1954
ATTACH;FMTTYPE=image/jpeg:https://bruynezeelen.nl/wp-content/uploads/2023/
 10/kerkje-1.png
CATEGORIES:Openbaar
END:VEVENT
BEGIN:VTIMEZONE
TZID:Europe/Amsterdam
X-LIC-LOCATION:Europe/Amsterdam
BEGIN:STANDARD
DTSTART:20231029T020000
TZOFFSETFROM:+0200
TZOFFSETTO:+0100
TZNAME:CET
END:STANDARD
END:VTIMEZONE
END:VCALENDAR