BEGIN:VCALENDAR
VERSION:2.0
PRODID:-//wp-events-plugin.com//7.2.3.1//EN
TZID:Europe/Amsterdam
X-WR-TIMEZONE:Europe/Amsterdam
BEGIN:VEVENT
UID:7@bruynezeelen.nl
DTSTART;TZID=Europe/Amsterdam:20230917T140000
DTEND;TZID=Europe/Amsterdam:20230917T170000
DTSTAMP:20230905T095556Z
URL:https://bruynezeelen.nl/optredens/muzikale-wandeling-oosterleek/
SUMMARY:Muzikale wandeling Oosterleek
DESCRIPTION:Veertien tuinen vormen podia voor muzikanten in Oosterleek.\nDe
  muziek klinkt van 14 tot en met 17 uur. De organisatoren vragen om zoveel
  mogelijk op de fiets te komen\, want er is weinig ruimte om te parkeren i
 n het dorp.
ATTACH;FMTTYPE=image/jpeg:https://bruynezeelen.nl/wp-content/uploads/2023/
 09/oosterleek.png
CATEGORIES:Openbaar
END:VEVENT
BEGIN:VTIMEZONE
TZID:Europe/Amsterdam
X-LIC-LOCATION:Europe/Amsterdam
BEGIN:DAYLIGHT
DTSTART:20230326T030000
TZOFFSETFROM:+0100
TZOFFSETTO:+0200
TZNAME:CEST
END:DAYLIGHT
END:VTIMEZONE
END:VCALENDAR