BEGIN:VCALENDAR
VERSION:2.0
PRODID:-//wp-events-plugin.com//7.2.3.1//EN
TZID:Europe/Amsterdam
X-WR-TIMEZONE:Europe/Amsterdam
BEGIN:VEVENT
UID:5@bruynezeelen.nl
DTSTART;TZID=Europe/Amsterdam:20190210T143000
DTEND;TZID=Europe/Amsterdam:20190210T160000
DTSTAMP:20230523T154141Z
URL:https://bruynezeelen.nl/optredens/pennemes-2019/
SUMMARY:Pennemes 2019
DESCRIPTION:Zorgcentrum Pennmes\nBloemgracht 95\n1502 WB Zaandam
ATTACH;FMTTYPE=image/jpeg:https://bruynezeelen.nl/wp-content/uploads/2023/
 05/pennemes.jpg
CATEGORIES:Openbaar
END:VEVENT
BEGIN:VTIMEZONE
TZID:Europe/Amsterdam
X-LIC-LOCATION:Europe/Amsterdam
BEGIN:STANDARD
DTSTART:20181028T020000
TZOFFSETFROM:+0200
TZOFFSETTO:+0100
TZNAME:CET
END:STANDARD
END:VTIMEZONE
END:VCALENDAR