BEGIN:VCALENDAR
VERSION:2.0
PRODID:-//wp-events-plugin.com//7.2.3.1//EN
TZID:Europe/Amsterdam
X-WR-TIMEZONE:Europe/Amsterdam
BEGIN:VEVENT
UID:4@bruynezeelen.nl
DTSTART;TZID=Europe/Amsterdam:20231021T140000
DTEND;TZID=Europe/Amsterdam:20231021T160000
DTSTAMP:20231013T083900Z
URL:https://bruynezeelen.nl/optredens/zorgcentrum-pennemes/
SUMMARY:Zorgcentrum Pennemes
DESCRIPTION:Iedereen is van harte welkom op het benefietconcert t.b.v. Stic
 hting\nVaarwens. Op deze leuke dag treden meerdere koren\, duo’s en trio
 ’s op.\nDe entree €2\,50 en de consumptiemunten\, verkrijgbaar bij de 
 receptie\, kunt\nu met PIN betalen. 
ATTACH;FMTTYPE=image/jpeg:https://bruynezeelen.nl/wp-content/uploads/2023/
 05/Pennemes-800x0-c-default.jpg
CATEGORIES:Openbaar
END:VEVENT
BEGIN:VTIMEZONE
TZID:Europe/Amsterdam
X-LIC-LOCATION:Europe/Amsterdam
BEGIN:DAYLIGHT
DTSTART:20230326T030000
TZOFFSETFROM:+0100
TZOFFSETTO:+0200
TZNAME:CEST
END:DAYLIGHT
END:VTIMEZONE
END:VCALENDAR