BEGIN:VCALENDAR
VERSION:2.0
PRODID:-//wp-events-plugin.com//7.2.3.1//EN
TZID:Europe/Amsterdam
X-WR-TIMEZONE:Europe/Amsterdam
BEGIN:VEVENT
UID:26@bruynezeelen.nl
DTSTART;TZID=Europe/Amsterdam:20251123T143000
DTEND;TZID=Europe/Amsterdam:20251123T163000
DTSTAMP:20250927T170241Z
URL:https://bruynezeelen.nl/optredens/zorgvilla-bestevaer/
SUMMARY:Zorgvilla Bestevaer
DESCRIPTION:Dorpsstraat 707\n1566 EE Assendelft\nBestevaer 
ATTACH;FMTTYPE=image/jpeg:https://bruynezeelen.nl/wp-content/uploads/2025/
 09/Zorgvilla-Bestevaer-Assendelft_Uitgelicht.jpg
CATEGORIES:Openbaar
END:VEVENT
BEGIN:VTIMEZONE
TZID:Europe/Amsterdam
X-LIC-LOCATION:Europe/Amsterdam
BEGIN:STANDARD
DTSTART:20251026T020000
TZOFFSETFROM:+0200
TZOFFSETTO:+0100
TZNAME:CET
END:STANDARD
END:VTIMEZONE
END:VCALENDAR